Workbook

Sheet biudžetas
A1: MĖNESIO BIUDŽETAS (gegužė)
A3: Viso Suplanuotos išlaidos | C3: Viso patirtos išlaidos | D3: Viso Skirtumas | F3: Suplanuotos mėnesio pajamos
B4: =Housing15284154678093106119132145184158171197223249275288301327340353366379392405[[#Totals],[Suplanuotos išlaidos]]+Transportation16294255688194107120133146185159172198224250276289302328341354367380393406[[#Totals],[Suplanuotos išlaidos]]+Insurance17304356698295108121134147186160173199225251277290303329342355368381394407[[#Totals],[Suplanuotos išlaidos]]+Food18314457708396109122135148187161174200226252278291304330343356369382395408[[#Totals],[Suplanuotos išlaidos]]+Children19324558718497110123136149188162175201227253279292305331344357370383396409[[#Totals],[Suplanuotos išlaidos]]+Legal274053667992105118131144157196170183209235261287300313339352365378391404417[[#Totals],[Suplanuotos išlaidos]]+Savings253851647790103116129142155194168181207233259285298311337350363376389402415[[#Totals],[Suplanuotos išlaidos]]+Loans233649627588101114127140153192166179205231257283296309335348361374387400413[[#Totals],[Suplanuotos išlaidos]]+Entertainment223548617487100113126139152191165178204230256282295308334347360373386399412[[#Totals],[Suplanuotos išlaidos]]+Taxes243750637689102115128141154193167180206232258284297310336349362375388401414[[#Totals],[Suplanuotos išlaidos]]+PersonalCare21344760738699112125138151190164177203229255281294307333346359372385398411[[#Totals],[Suplanuotos išlaidos]]+Pets20334659728598111124137150189163176202228254280293306332345358371384397410[[#Totals],[Suplanuotos išlaidos]]+Gifts263952657891104117130143156195169182208234260286299312338351364377390403416[[#Totals],[Suplanuotos išlaidos]] -> 1490 | C4: =Housing15284154678093106119132145184158171197223249275288301327340353366379392405[[#Totals],[Patirtos išlaidos]]+Transportation16294255688194107120133146185159172198224250276289302328341354367380393406[[#Totals],[Išleista]]+Insurance17304356698295108121134147186160173199225251277290303329342355368381394407[[#Totals],[Išleista]]+Food18314457708396109122135148187161174200226252278291304330343356369382395408[[#Totals],[Išleista]]+Children19324558718497110123136149188162175201227253279292305331344357370383396409[[#Totals],[Išleista]]+Legal274053667992105118131144157196170183209235261287300313339352365378391404417[[#Totals],[Išleista]]+Savings253851647790103116129142155194168181207233259285298311337350363376389402415[[#Totals],[Išleista]]+Loans233649627588101114127140153192166179205231257283296309335348361374387400413[[#Totals],[Išleista]]+Entertainment223548617487100113126139152191165178204230256282295308334347360373386399412[[#Totals],[Išleista]]+Taxes243750637689102115128141154193167180206232258284297310336349362375388401414[[#Totals],[Išleista]]+PersonalCare21344760738699112125138151190164177203229255281294307333346359372385398411[[#Totals],[Išleista]]+Pets20334659728598111124137150189163176202228254280293306332345358371384397410[[#Totals],[Išleista]]+Gifts263952657891104117130143156195169182208234260286299312338351364377390403416[[#Totals],[Išleista]] -> 1229.94 | D4: =Housing15284154678093106119132145184158171197223249275288301327340353366379392405[[#Totals],[Skirtumas]]+Transportation16294255688194107120133146185159172198224250276289302328341354367380393406[[#Totals],[Skirtumas]]+Insurance17304356698295108121134147186160173199225251277290303329342355368381394407[[#Totals],[Skirtumas]]+Food18314457708396109122135148187161174200226252278291304330343356369382395408[[#Totals],[Skirtumas]]+Children19324558718497110123136149188162175201227253279292305331344357370383396409[[#Totals],[Skirtumas]]+Legal274053667992105118131144157196170183209235261287300313339352365378391404417[[#Totals],[Skirtumas]]+Savings253851647790103116129142155194168181207233259285298311337350363376389402415[[#Totals],[Skirtumas]]+Loans233649627588101114127140153192166179205231257283296309335348361374387400413[[#Totals],[Skirtumas]]+Entertainment223548617487100113126139152191165178204230256282295308334347360373386399412[[#Totals],[Skirtumas]]+Taxes243750637689102115128141154193167180206232258284297310336349362375388401414[[#Totals],[Skirtumas]]+PersonalCare21344760738699112125138151190164177203229255281294307333346359372385398411[[#Totals],[Skirtumas]]+Pets20334659728598111124137150189163176202228254280293306332345358371384397410[[#Totals],[Skirtumas]]+Gifts263952657891104117130143156195169182208234260286299312338351364377390403416[[#Totals],[Skirtumas]] -> 260.06 | F4: Atlyginimas | G4: 1500
B5: BŪTINOS | F5: Papildomos pajamos | G5: 300
A6: Būstas | B6: Suplanuotos išlaidos | C6: Patirtos išlaidos | D6: Skirtumas | F6: Papildomos pajamos | G6: 0
A7: Būsto nuoma/paskola | B7: 550 | C7: 550 | D7: =Housing15284154678093106119132145184158171197223249275288301327340353366379392405[Suplanuotos išlaidos]-Housing15284154678093106119132145184158171197223249275288301327340353366379392405[Patirtos išlaidos] -> 0 | F7: Viso mėnesio pajamos | G7: =SUM(G4:G6) -> 1800
A8: Telefonas, internetas | B8: 15 | C8: 15 | D8: =Housing15284154678093106119132145184158171197223249275288301327340353366379392405[Suplanuotos išlaidos]-Housing15284154678093106119132145184158171197223249275288301327340353366379392405[Patirtos išlaidos] -> 0
A9: Komunalinės išlaidos | B9: 50 | C9: 50 | D9: =Housing15284154678093106119132145184158171197223249275288301327340353366379392405[Suplanuotos išlaidos]-Housing15284154678093106119132145184158171197223249275288301327340353366379392405[Patirtos išlaidos] -> 0 | F9: Gautos mėnesio pajamos
A10: Remontas | B10: 0 | C10: 0 | D10: =Housing15284154678093106119132145184158171197223249275288301327340353366379392405[Suplanuotos išlaidos]-Housing15284154678093106119132145184158171197223249275288301327340353366379392405[Patirtos išlaidos] -> 0 | F10: Atlyginimas | G10: 1500
A11: Valymas | B11: 0 | C11: 0 | D11: =Housing15284154678093106119132145184158171197223249275288301327340353366379392405[Suplanuotos išlaidos]-Housing15284154678093106119132145184158171197223249275288301327340353366379392405[Patirtos išlaidos] -> 0 | F11: Papildomos pajamos | G11: 300
A12: Buitinės išlaidos | B12: 0 | C12: 0 | D12: =Housing15284154678093106119132145184158171197223249275288301327340353366379392405[Suplanuotos išlaidos]-Housing15284154678093106119132145184158171197223249275288301327340353366379392405[Patirtos išlaidos] -> 0 | F12: Papildomos pajamos | G12: 200
B13: 0 | C13: 0 | D13: =Housing15284154678093106119132145184158171197223249275288301327340353366379392405[Suplanuotos išlaidos]-Housing15284154678093106119132145184158171197223249275288301327340353366379392405[Patirtos išlaidos] -> 0 | F13: Viso mėnesio pajamos | G13: =SUM(G10:G12) -> 2000
B14: 0 | C14: 0 | D14: =Housing15284154678093106119132145184158171197223249275288301327340353366379392405[Suplanuotos išlaidos]-Housing15284154678093106119132145184158171197223249275288301327340353366379392405[Patirtos išlaidos] -> 0
B15: 0 | C15: 0 | D15: =Housing15284154678093106119132145184158171197223249275288301327340353366379392405[Suplanuotos išlaidos]-Housing15284154678093106119132145184158171197223249275288301327340353366379392405[Patirtos išlaidos] -> 0 | F15: Suplanuotas balansas | G15: =SUM(G7-B4) -> 310
D16: =Housing15284154678093106119132145184158171197223249275288301327340353366379392405[Suplanuotos išlaidos]-Housing15284154678093106119132145184158171197223249275288301327340353366379392405[Patirtos išlaidos] -> 0 | F16: Gautas balansas | G16: =SUM(G13-C4) -> 770.06
D17: =Housing15284154678093106119132145184158171197223249275288301327340353366379392405[Suplanuotos išlaidos]-Housing15284154678093106119132145184158171197223249275288301327340353366379392405[Patirtos išlaidos] -> 0 | F17: Skirtumas | G17: =SUM(G16-G15) -> 460.06
A18: Viso | B18: =SUBTOTAL(109,Housing15284154678093106119132145184158171197223249275288301327340353366379392405[Suplanuotos išlaidos]) -> 615 | C18: =SUBTOTAL(109,Housing15284154678093106119132145184158171197223249275288301327340353366379392405[Patirtos išlaidos]) -> 615 | D18: =SUBTOTAL(109,Housing15284154678093106119132145184158171197223249275288301327340353366379392405[Skirtumas]) -> 0
A20: Transportas | B20: Suplanuotos išlaidos | C20: Išleista | D20: Skirtumas | F20: Vaikai | G20: Suplanuotos išlaidos | H20: Išleista | I20: Skirtumas
A21: Automobilio nuoma/lizingas | B21: 0 | C21: 0 | D21: =Transportation16294255688194107120133146185159172198224250276289302328341354367380393406[Suplanuotos išlaidos]-Transportation16294255688194107120133146185159172198224250276289302328341354367380393406[Išleista] -> 0 | F21: Darželis/mokykla | G21: 0 | H21: 0 | I21: =Loans233649627588101114127140153192166179205231257283296309335348361374387400413[Suplanuotos išlaidos]-Loans233649627588101114127140153192166179205231257283296309335348361374387400413[Išleista] -> 0
A22: Kuras | B22: 0 | C22: 0 | D22: =Transportation16294255688194107120133146185159172198224250276289302328341354367380393406[Suplanuotos išlaidos]-Transportation16294255688194107120133146185159172198224250276289302328341354367380393406[Išleista] -> 0 | F22: Sveikata | G22: 0 | H22: 0 | I22: =Loans233649627588101114127140153192166179205231257283296309335348361374387400413[Suplanuotos išlaidos]-Loans233649627588101114127140153192166179205231257283296309335348361374387400413[Išleista] -> 0
A23: Automobilio draudimas | B23: 0 | C23: 0 | D23: =Transportation16294255688194107120133146185159172198224250276289302328341354367380393406[Suplanuotos išlaidos]-Transportation16294255688194107120133146185159172198224250276289302328341354367380393406[Išleista] -> 0 | F23: Kišenpinigiai | G23: 0 | H23: 0 | I23: =Loans233649627588101114127140153192166179205231257283296309335348361374387400413[Suplanuotos išlaidos]-Loans233649627588101114127140153192166179205231257283296309335348361374387400413[Išleista] -> 0
A24: Remontas | B24: 0 | C24: 0 | D24: =Transportation16294255688194107120133146185159172198224250276289302328341354367380393406[Suplanuotos išlaidos]-Transportation16294255688194107120133146185159172198224250276289302328341354367380393406[Išleista] -> 0 | F24: Drabužiai | G24: 0 | H24: 0 | I24: =Loans233649627588101114127140153192166179205231257283296309335348361374387400413[Suplanuotos išlaidos]-Loans233649627588101114127140153192166179205231257283296309335348361374387400413[Išleista] -> 0
A25: Taxi, viešasis transportas | B25: 40 | C25: 84.94 | D25: =Transportation16294255688194107120133146185159172198224250276289302328341354367380393406[Suplanuotos išlaidos]-Transportation16294255688194107120133146185159172198224250276289302328341354367380393406[Išleista] -> -44.94 | F25: Žaislai | G25: 0 | H25: 0 | I25: =Loans233649627588101114127140153192166179205231257283296309335348361374387400413[Suplanuotos išlaidos]-Loans233649627588101114127140153192166179205231257283296309335348361374387400413[Išleista] -> 0
A26: Parkingas | B26: 0 | C26: 0 | D26: =Transportation16294255688194107120133146185159172198224250276289302328341354367380393406[Suplanuotos išlaidos]-Transportation16294255688194107120133146185159172198224250276289302328341354367380393406[Išleista] -> 0 | F26: Būreliai | G26: 0 | H26: 0 | I26: =Loans233649627588101114127140153192166179205231257283296309335348361374387400413[Suplanuotos išlaidos]-Loans233649627588101114127140153192166179205231257283296309335348361374387400413[Išleista] -> 0
A27: Plovykla | B27: 0 | C27: 0 | D27: =Transportation16294255688194107120133146185159172198224250276289302328341354367380393406[Suplanuotos išlaidos]-Transportation16294255688194107120133146185159172198224250276289302328341354367380393406[Išleista] -> 0 | G27: 0 | H27: 0 | I27: =Loans233649627588101114127140153192166179205231257283296309335348361374387400413[Suplanuotos išlaidos]-Loans233649627588101114127140153192166179205231257283296309335348361374387400413[Išleista] -> 0
A28: Kita | B28: 0 | C28: 0 | D28: =Transportation16294255688194107120133146185159172198224250276289302328341354367380393406[Suplanuotos išlaidos]-Transportation16294255688194107120133146185159172198224250276289302328341354367380393406[Išleista] -> 0 | G28: 0 | H28: 0 | I28: =Loans233649627588101114127140153192166179205231257283296309335348361374387400413[Suplanuotos išlaidos]-Loans233649627588101114127140153192166179205231257283296309335348361374387400413[Išleista] -> 0
A29: Viso | B29: =SUBTOTAL(109,Transportation16294255688194107120133146185159172198224250276289302328341354367380393406[Suplanuotos išlaidos]) -> 40 | C29: =SUBTOTAL(109,Transportation16294255688194107120133146185159172198224250276289302328341354367380393406[Išleista]) -> 84.94 | D29: =SUBTOTAL(109,Transportation16294255688194107120133146185159172198224250276289302328341354367380393406[Skirtumas]) -> -44.94 | F29: Viso | G29: =SUBTOTAL(109,Loans233649627588101114127140153192166179205231257283296309335348361374387400413[Suplanuotos išlaidos]) -> 0 | H29: =SUBTOTAL(109,Loans233649627588101114127140153192166179205231257283296309335348361374387400413[Išleista]) -> 0 | I29: =SUBTOTAL(109,Loans233649627588101114127140153192166179205231257283296309335348361374387400413[Skirtumas]) -> 0
A31: Maistas | B31: Suplanuotos išlaidos | C31: Išleista | D31: Skirtumas | F31: Kelionės | G31: Suplanuotos išlaidos | H31: Išleista | I31: Skirtumas
A32: Parduotuvės | B32: 150 | C32: 200 | D32: =Insurance17304356698295108121134147186160173199225251277290303329342355368381394407[Suplanuotos išlaidos]-Insurance17304356698295108121134147186160173199225251277290303329342355368381394407[Išleista] -> -50 | F32: Apgyvendinimas | G32: 0 | H32: 0 | I32: =Entertainment223548617487100113126139152191165178204230256282295308334347360373386399412[Suplanuotos išlaidos]-Entertainment223548617487100113126139152191165178204230256282295308334347360373386399412[Išleista] -> 0
A33: Kavinės, restoranai | B33: 20 | C33: 50 | D33: =Insurance17304356698295108121134147186160173199225251277290303329342355368381394407[Suplanuotos išlaidos]-Insurance17304356698295108121134147186160173199225251277290303329342355368381394407[Išleista] -> -30 | F33: Bilietai | G33: 0 | H33: 0 | I33: =Entertainment223548617487100113126139152191165178204230256282295308334347360373386399412[Suplanuotos išlaidos]-Entertainment223548617487100113126139152191165178204230256282295308334347360373386399412[Išleista] -> 0
B34: 0 | C34: 0 | D34: =Insurance17304356698295108121134147186160173199225251277290303329342355368381394407[Suplanuotos išlaidos]-Insurance17304356698295108121134147186160173199225251277290303329342355368381394407[Išleista] -> 0 | F34: Muziejai | G34: 0 | H34: 0 | I34: =Entertainment223548617487100113126139152191165178204230256282295308334347360373386399412[Suplanuotos išlaidos]-Entertainment223548617487100113126139152191165178204230256282295308334347360373386399412[Išleista] -> 0
B35: 0 | C35: 0 | D35: =Insurance17304356698295108121134147186160173199225251277290303329342355368381394407[Suplanuotos išlaidos]-Insurance17304356698295108121134147186160173199225251277290303329342355368381394407[Išleista] -> 0 | F35: Suvenyrai, lauktuvės | G35: 0 | H35: 0 | I35: =Entertainment223548617487100113126139152191165178204230256282295308334347360373386399412[Suplanuotos išlaidos]-Entertainment223548617487100113126139152191165178204230256282295308334347360373386399412[Išleista] -> 0
B36: 0 | C36: 0 | D36: =Insurance17304356698295108121134147186160173199225251277290303329342355368381394407[Suplanuotos išlaidos]-Insurance17304356698295108121134147186160173199225251277290303329342355368381394407[Išleista] -> 0 | F36: Maistas | G36: 0 | H36: 0 | I36: =Entertainment223548617487100113126139152191165178204230256282295308334347360373386399412[Suplanuotos išlaidos]-Entertainment223548617487100113126139152191165178204230256282295308334347360373386399412[Išleista] -> 0
A37: Viso | B37: =SUBTOTAL(109,Insurance17304356698295108121134147186160173199225251277290303329342355368381394407[Suplanuotos išlaidos]) -> 170 | C37: =SUBTOTAL(109,Insurance17304356698295108121134147186160173199225251277290303329342355368381394407[Išleista]) -> 250 | D37: =SUBTOTAL(109,Insurance17304356698295108121134147186160173199225251277290303329342355368381394407[Skirtumas]) -> -80 | F37: Viso | G37: =SUBTOTAL(109,Entertainment223548617487100113126139152191165178204230256282295308334347360373386399412[Suplanuotos išlaidos]) -> 0 | H37: =SUBTOTAL(109,Entertainment223548617487100113126139152191165178204230256282295308334347360373386399412[Išleista]) -> 0 | I37: =SUBTOTAL(109,Entertainment223548617487100113126139152191165178204230256282295308334347360373386399412[Skirtumas]) -> 0
A39: Taupymas, investicijos | B39: Suplanuotos išlaidos | C39: Išleista | D39: Skirtumas | F39: Gyvūnai | G39: Suplanuotos išlaidos | H39: Išleista | I39: Skirtumas
A40: Gyvybės draudimas | B40: 0 | C40: 0 | D40: =Food18314457708396109122135148187161174200226252278291304330343356369382395408[Suplanuotos išlaidos]-Food18314457708396109122135148187161174200226252278291304330343356369382395408[Išleista] -> 0 | F40: Maistas | G40: 0 | H40: 0 | I40: =Taxes243750637689102115128141154193167180206232258284297310336349362375388401414[Suplanuotos išlaidos]-Taxes243750637689102115128141154193167180206232258284297310336349362375388401414[Išleista] -> 0
A41: Investicijos | B41: 300 | C41: 0 | D41: =Food18314457708396109122135148187161174200226252278291304330343356369382395408[Suplanuotos išlaidos]-Food18314457708396109122135148187161174200226252278291304330343356369382395408[Išleista] -> 300 | F41: Sveikata | G41: 0 | H41: 0 | I41: =Taxes243750637689102115128141154193167180206232258284297310336349362375388401414[Suplanuotos išlaidos]-Taxes243750637689102115128141154193167180206232258284297310336349362375388401414[Išleista] -> 0
A42: Finansinė pagalvė | B42: 200 | C42: 0 | D42: =Food18314457708396109122135148187161174200226252278291304330343356369382395408[Suplanuotos išlaidos]-Food18314457708396109122135148187161174200226252278291304330343356369382395408[Išleista] -> 200 | F42: Kita | G42: 0 | H42: 0 | I42: =Taxes243750637689102115128141154193167180206232258284297310336349362375388401414[Suplanuotos išlaidos]-Taxes243750637689102115128141154193167180206232258284297310336349362375388401414[Išleista] -> 0
A43: KIta | B43: 0 | C43: 0 | D43: =Food18314457708396109122135148187161174200226252278291304330343356369382395408[Suplanuotos išlaidos]-Food18314457708396109122135148187161174200226252278291304330343356369382395408[Išleista] -> 0 | F43: Kita | G43: 0 | H43: 0 | I43: =Taxes243750637689102115128141154193167180206232258284297310336349362375388401414[Suplanuotos išlaidos]-Taxes243750637689102115128141154193167180206232258284297310336349362375388401414[Išleista] -> 0
A44: Viso | B44: =SUBTOTAL(109,Food18314457708396109122135148187161174200226252278291304330343356369382395408[Suplanuotos išlaidos]) -> 500 | C44: =SUBTOTAL(109,Food18314457708396109122135148187161174200226252278291304330343356369382395408[Išleista]) -> 0 | D44: =SUBTOTAL(109,Food18314457708396109122135148187161174200226252278291304330343356369382395408[Skirtumas]) -> 500 | F44: Viso | G44: =SUBTOTAL(109,Taxes243750637689102115128141154193167180206232258284297310336349362375388401414[Suplanuotos išlaidos]) -> 0 | H44: =SUBTOTAL(109,Taxes243750637689102115128141154193167180206232258284297310336349362375388401414[Išleista]) -> 0 | I44: =SUBTOTAL(109,Taxes243750637689102115128141154193167180206232258284297310336349362375388401414[Skirtumas]) -> 0
A46: Asmeninė priežiūra | B46: Suplanuotos išlaidos | C46: Išleista | D46: Skirtumas | F46: Pramogos | G46: Suplanuotos išlaidos | H46: Išleista | I46: Skirtumas
A47: Medicina, vaistai | B47: 20 | C47: 30 | D47: =Children19324558718497110123136149188162175201227253279292305331344357370383396409[Suplanuotos išlaidos]-Children19324558718497110123136149188162175201227253279292305331344357370383396409[Išleista] -> -10 | F47: Televizija | G47: 0 | H47: 0 | I47: =PersonalCare21344760738699112125138151190164177203229255281294307333346359372385398411[Suplanuotos išlaidos]-PersonalCare21344760738699112125138151190164177203229255281294307333346359372385398411[Išleista] -> 0
A48: Nagai. Plaukai | B48: 25 | C48: 100 | D48: =Children19324558718497110123136149188162175201227253279292305331344357370383396409[Suplanuotos išlaidos]-Children19324558718497110123136149188162175201227253279292305331344357370383396409[Išleista] -> -75 | F48: Kinas, teatras, koncertai | G48: 0 | H48: 0 | I48: =PersonalCare21344760738699112125138151190164177203229255281294307333346359372385398411[Suplanuotos išlaidos]-PersonalCare21344760738699112125138151190164177203229255281294307333346359372385398411[Išleista] -> 0
A49: Higienos prekės | B49: 20 | C49: 50 | D49: =Children19324558718497110123136149188162175201227253279292305331344357370383396409[Suplanuotos išlaidos]-Children19324558718497110123136149188162175201227253279292305331344357370383396409[Išleista] -> -30 | F49: Programėlės | G49: 0 | H49: 0 | I49: =PersonalCare21344760738699112125138151190164177203229255281294307333346359372385398411[Suplanuotos išlaidos]-PersonalCare21344760738699112125138151190164177203229255281294307333346359372385398411[Išleista] -> 0
A50: Masažas | B50: 0 | C50: 0 | D50: =Children19324558718497110123136149188162175201227253279292305331344357370383396409[Suplanuotos išlaidos]-Children19324558718497110123136149188162175201227253279292305331344357370383396409[Išleista] -> 0 | F50: Žaidimai | G50: 0 | H50: 0 | I50: =PersonalCare21344760738699112125138151190164177203229255281294307333346359372385398411[Suplanuotos išlaidos]-PersonalCare21344760738699112125138151190164177203229255281294307333346359372385398411[Išleista] -> 0
A51: Sporto klubas | B51: 0 | C51: 0 | D51: =Children19324558718497110123136149188162175201227253279292305331344357370383396409[Suplanuotos išlaidos]-Children19324558718497110123136149188162175201227253279292305331344357370383396409[Išleista] -> 0 | G51: 0 | H51: 0 | I51: =PersonalCare21344760738699112125138151190164177203229255281294307333346359372385398411[Suplanuotos išlaidos]-PersonalCare21344760738699112125138151190164177203229255281294307333346359372385398411[Išleista] -> 0
A52: Kita | B52: 0 | C52: 0 | D52: =Children19324558718497110123136149188162175201227253279292305331344357370383396409[Suplanuotos išlaidos]-Children19324558718497110123136149188162175201227253279292305331344357370383396409[Išleista] -> 0 | G52: 0 | H52: 0 | I52: =PersonalCare21344760738699112125138151190164177203229255281294307333346359372385398411[Suplanuotos išlaidos]-PersonalCare21344760738699112125138151190164177203229255281294307333346359372385398411[Išleista] -> 0
B53: 0 | C53: 0 | D53: =Children19324558718497110123136149188162175201227253279292305331344357370383396409[Suplanuotos išlaidos]-Children19324558718497110123136149188162175201227253279292305331344357370383396409[Išleista] -> 0 | G53: 0 | H53: 0 | I53: =PersonalCare21344760738699112125138151190164177203229255281294307333346359372385398411[Suplanuotos išlaidos]-PersonalCare21344760738699112125138151190164177203229255281294307333346359372385398411[Išleista] -> 0
A54: Viso | B54: =SUBTOTAL(109,Children19324558718497110123136149188162175201227253279292305331344357370383396409[Suplanuotos išlaidos]) -> 65 | C54: =SUBTOTAL(109,Children19324558718497110123136149188162175201227253279292305331344357370383396409[Išleista]) -> 180 | D54: =SUBTOTAL(109,Children19324558718497110123136149188162175201227253279292305331344357370383396409[Skirtumas]) -> -115 | F54: Viso | G54: =SUBTOTAL(109,PersonalCare21344760738699112125138151190164177203229255281294307333346359372385398411[Suplanuotos išlaidos]) -> 0 | H54: =SUBTOTAL(109,PersonalCare21344760738699112125138151190164177203229255281294307333346359372385398411[Išleista]) -> 0 | I54: =SUBTOTAL(109,PersonalCare21344760738699112125138151190164177203229255281294307333346359372385398411[Skirtumas]) -> 0
A56: Saviugda | B56: Suplanuotos išlaidos | C56: Išleista | D56: Skirtumas | F56: Šeimos išlaidos | G56: Suplanuotos išlaidos | H56: Išleista | I56: Skirtumas
A57: Knygos | B57: 0 | C57: 0 | D57: =Legal274053667992105118131144157196170183209235261287300313339352365378391404417[Suplanuotos išlaidos]-Legal274053667992105118131144157196170183209235261287300313339352365378391404417[Išleista] -> 0 | F57: Dovanos | G57: 0 | H57: 0 | I57: =Pets20334659728598111124137150189163176202228254280293306332345358371384397410[Suplanuotos išlaidos]-Pets20334659728598111124137150189163176202228254280293306332345358371384397410[Išleista] -> 0
A58: Seminarai, mokslai | B58: 0 | C58: 0 | D58: =Legal274053667992105118131144157196170183209235261287300313339352365378391404417[Suplanuotos išlaidos]-Legal274053667992105118131144157196170183209235261287300313339352365378391404417[Išleista] -> 0 | F58: Parama, labdara | G58: 0 | H58: 0 | I58: =Pets20334659728598111124137150189163176202228254280293306332345358371384397410[Suplanuotos išlaidos]-Pets20334659728598111124137150189163176202228254280293306332345358371384397410[Išleista] -> 0
A59: Terapija, koučingas | B59: 100 | C59: 100 | D59: =Legal274053667992105118131144157196170183209235261287300313339352365378391404417[Suplanuotos išlaidos]-Legal274053667992105118131144157196170183209235261287300313339352365378391404417[Išleista] -> 0 | G59: 0 | H59: 0 | I59: =Pets20334659728598111124137150189163176202228254280293306332345358371384397410[Suplanuotos išlaidos]-Pets20334659728598111124137150189163176202228254280293306332345358371384397410[Išleista] -> 0
B60: 0 | C60: 0 | D60: =Legal274053667992105118131144157196170183209235261287300313339352365378391404417[Suplanuotos išlaidos]-Legal274053667992105118131144157196170183209235261287300313339352365378391404417[Išleista] -> 0 | G60: 0 | H60: 0 | I60: =Pets20334659728598111124137150189163176202228254280293306332345358371384397410[Suplanuotos išlaidos]-Pets20334659728598111124137150189163176202228254280293306332345358371384397410[Išleista] -> 0
B61: 0 | C61: 0 | D61: =Legal274053667992105118131144157196170183209235261287300313339352365378391404417[Suplanuotos išlaidos]-Legal274053667992105118131144157196170183209235261287300313339352365378391404417[Išleista] -> 0 | G61: 0 | H61: 0 | I61: =Pets20334659728598111124137150189163176202228254280293306332345358371384397410[Suplanuotos išlaidos]-Pets20334659728598111124137150189163176202228254280293306332345358371384397410[Išleista] -> 0
A62: Viso | B62: =SUBTOTAL(109,Legal274053667992105118131144157196170183209235261287300313339352365378391404417[Suplanuotos išlaidos]) -> 100 | C62: =SUBTOTAL(109,Legal274053667992105118131144157196170183209235261287300313339352365378391404417[Išleista]) -> 100 | D62: =SUBTOTAL(109,Legal274053667992105118131144157196170183209235261287300313339352365378391404417[Skirtumas]) -> 0 | F62: Viso | G62: =SUBTOTAL(109,Pets20334659728598111124137150189163176202228254280293306332345358371384397410[Suplanuotos išlaidos]) -> 0 | H62: =SUBTOTAL(109,Pets20334659728598111124137150189163176202228254280293306332345358371384397410[Išleista]) -> 0 | I62: =SUBTOTAL(109,Pets20334659728598111124137150189163176202228254280293306332345358371384397410[Skirtumas]) -> 0
A64: Stulpelis1 | B64: Suplanuotos išlaidos | C64: Išleista | D64: Skirtumas | F64: Stulpelis1 | G64: Suplanuotos išlaidos | H64: Išleista | I64: Skirtumas
B65: 0 | C65: 0 | D65: =Savings253851647790103116129142155194168181207233259285298311337350363376389402415[Suplanuotos išlaidos]-Savings253851647790103116129142155194168181207233259285298311337350363376389402415[Išleista] -> 0 | G65: 0 | H65: 0 | I65: =Gifts263952657891104117130143156195169182208234260286299312338351364377390403416[Suplanuotos išlaidos]-Gifts263952657891104117130143156195169182208234260286299312338351364377390403416[Išleista] -> 0
B66: 0 | C66: 0 | D66: =Savings253851647790103116129142155194168181207233259285298311337350363376389402415[Suplanuotos išlaidos]-Savings253851647790103116129142155194168181207233259285298311337350363376389402415[Išleista] -> 0 | G66: 0 | H66: 0 | I66: =Gifts263952657891104117130143156195169182208234260286299312338351364377390403416[Suplanuotos išlaidos]-Gifts263952657891104117130143156195169182208234260286299312338351364377390403416[Išleista] -> 0
B67: 0 | C67: 0 | D67: =Savings253851647790103116129142155194168181207233259285298311337350363376389402415[Suplanuotos išlaidos]-Savings253851647790103116129142155194168181207233259285298311337350363376389402415[Išleista] -> 0 | G67: 0 | H67: 0 | I67: =Gifts263952657891104117130143156195169182208234260286299312338351364377390403416[Suplanuotos išlaidos]-Gifts263952657891104117130143156195169182208234260286299312338351364377390403416[Išleista] -> 0
B68: 0 | C68: 0 | D68: =Savings253851647790103116129142155194168181207233259285298311337350363376389402415[Suplanuotos išlaidos]-Savings253851647790103116129142155194168181207233259285298311337350363376389402415[Išleista] -> 0 | G68: 0 | H68: 0 | I68: =Gifts263952657891104117130143156195169182208234260286299312338351364377390403416[Suplanuotos išlaidos]-Gifts263952657891104117130143156195169182208234260286299312338351364377390403416[Išleista] -> 0
A69: Viso | B69: =SUBTOTAL(109,Savings253851647790103116129142155194168181207233259285298311337350363376389402415[Suplanuotos išlaidos]) -> 0 | C69: =SUBTOTAL(109,Savings253851647790103116129142155194168181207233259285298311337350363376389402415[Išleista]) -> 0 | D69: =SUBTOTAL(109,Savings253851647790103116129142155194168181207233259285298311337350363376389402415[Skirtumas]) -> 0 | F69: Viso | G69: =SUBTOTAL(109,Gifts263952657891104117130143156195169182208234260286299312338351364377390403416[Suplanuotos išlaidos]) -> 0 | H69: =SUBTOTAL(109,Gifts263952657891104117130143156195169182208234260286299312338351364377390403416[Išleista]) -> 0 | I69: =SUBTOTAL(109,Gifts263952657891104117130143156195169182208234260286299312338351364377390403416[Skirtumas]) -> 0

Sheet išlaidos%
A1: FINANSINIS PLANAS
B3: Suplanuotos | C3: Faktas
A4: BŪTINOSIOS IŠLAIDOS/PASTOVIOS | B4: =B16/B36 -> 0.46944444 | C4: =(C16/C36) -> 0.48997 | E4: 50/30/20 Taisyklė
A5: Būsto nuoma/paskola | B5: =biudžetas!B7 -> 550 | C5: =biudžetas!C7 -> 550
A6: Komunalinės išlaidos | B6: =biudžetas!B9 -> 50 | C6: =biudžetas!C9 -> 50 | E6: 50%-būtinosios išlaidos
A7: Automobilis, kuras, remontas, taxi | B7: =biudžetas!B25 -> 40 | C7: =biudžetas!C25 -> 84.94 | E7: 30%-nebūtinos, kurios teikia džiaugsmą
A8: Prenumeratos | B8: 0 | C8: 0 | E8: 20%- taupymas ir investicijos
A9: Skolos išmokėjimas (Sodrai, VMI) | B9: =biudžetas!B14+biudžetas!B15 -> 0 | C9: =biudžetas!C14+biudžetas!C15 -> 0
A10: Maistas parduotuvėj | B10: =biudžetas!B32 -> 150 | C10: =biudžetas!C32 -> 200
A11: Telefonas, internetas | B11: =biudžetas!B8 -> 15 | C11: =biudžetas!C8 -> 15
B12: =biudžetas!B16+biudžetas!B17 -> 0 | C12: =biudžetas!C16+biudžetas!C17 -> 0
A13: Medicina, vaistai | B13: =biudžetas!B47 -> 20 | C13: =biudžetas!C47 -> 30
A14: Higienos prekės | B14: =biudžetas!B49 -> 20 | C14: =biudžetas!C49 -> 50
A15: Skola Visitai | B15: =biudžetas!B13 -> 0 | C15: =biudžetas!C13 -> 0
A16: Pastovios išlaidos Viso | B16: =SUM(B5:B15) -> 845 | C16: =SUM(C5:C15) -> 979.94
A17: INVESTICIJOS | B17: =B21/B36 -> 0 | C17: =C21/C36 -> 0
A18: Pensijų kapimui | B18: 0 | C18: 0
A19: Akcijos/fondai | B19: 0 | C19: 0
B20: 0 | C20: 0
A21: Investicijos Viso | B21: =SUM(B18:B20) -> 0 | C21: =SUM(C18:C20) -> 0
A22: TAUPYMO TIKSLAI | B22: =B26/B36 -> 0.11111111 | C22: =C26/C36 -> 0
A23: Finansinei pagalvei | B23: =biudžetas!B42 -> 200 | C23: =biudžetas!C42 -> 0
A24: Atostogoms | B24: 0 | C24: 0
B25: 0 | C25: 0
A26: Taupymui Viso | B26: =SUM(B23:B25) -> 200 | C26: =SUM(C23:C25) -> 0
A27: VISAM KITAM (visam kas nebūtina) | B27: =B34/B36 -> 0.080555556 | C27: =C34/C36 -> 0.125
A28: Maistas restorane | B28: =biudžetas!B33 -> 20 | C28: =biudžetas!C33 -> 50
A29: Nagai, Plaukai | B29: =biudžetas!B48 -> 25 | C29: =biudžetas!C48 -> 100
A30: Knygos | B30: =biudžetas!B57 -> 0 | C30: =biudžetas!C57 -> 0
A31: Terapija | B31: =biudžetas!B59 -> 100 | C31: =biudžetas!C59 -> 100
A32: Dovanos | B32: =biudžetas!G57 -> 0 | C32: =biudžetas!H57 -> 0
A33: Programėlės | B33: =biudžetas!G49 -> 0 | C33: =biudžetas!H49 -> 0
A34: Nebūtinos išlaidos Viso | B34: =SUM(B28:B33) -> 145 | C34: =SUM(C28:C33) -> 250
A36: Pajamos | B36: =biudžetas!G7 -> 1800 | C36: =biudžetas!G13 -> 2000

Sheet Lapas2

Sheet Lapas1
